BEGIN:VCALENDAR
VERSION:2.0
PRODID:-//Port Hills Athletic Club - ECPv6.15.20//NONSGML v1.0//EN
CALSCALE:GREGORIAN
METHOD:PUBLISH
X-WR-CALNAME:Port Hills Athletic Club
X-ORIGINAL-URL:https://porthillsathletic.org.nz
X-WR-CALDESC:Events for Port Hills Athletic Club
REFRESH-INTERVAL;VALUE=DURATION:PT1H
X-Robots-Tag:noindex
X-PUBLISHED-TTL:PT1H
BEGIN:VTIMEZONE
TZID:Pacific/Auckland
BEGIN:STANDARD
TZOFFSETFROM:+1300
TZOFFSETTO:+1200
TZNAME:NZST
DTSTART:20240406T140000
END:STANDARD
BEGIN:DAYLIGHT
TZOFFSETFROM:+1200
TZOFFSETTO:+1300
TZNAME:NZDT
DTSTART:20240928T140000
END:DAYLIGHT
BEGIN:STANDARD
TZOFFSETFROM:+1300
TZOFFSETTO:+1200
TZNAME:NZST
DTSTART:20250405T140000
END:STANDARD
BEGIN:DAYLIGHT
TZOFFSETFROM:+1200
TZOFFSETTO:+1300
TZNAME:NZDT
DTSTART:20250927T140000
END:DAYLIGHT
BEGIN:STANDARD
TZOFFSETFROM:+1300
TZOFFSETTO:+1200
TZNAME:NZST
DTSTART:20260404T140000
END:STANDARD
BEGIN:DAYLIGHT
TZOFFSETFROM:+1200
TZOFFSETTO:+1300
TZNAME:NZDT
DTSTART:20260926T140000
END:DAYLIGHT
END:VTIMEZONE
BEGIN:VEVENT
DTSTART;VALUE=DATE:20250607
DTEND;VALUE=DATE:20250608
DTSTAMP:20260420T223316
CREATED:20210803T193216Z
LAST-MODIFIED:20250531T214834Z
UID:1490-1749254400-1749340799@porthillsathletic.org.nz
SUMMARY:Lakeside Relay 2025
DESCRIPTION:This event is a relay with two races the first being the U16 race which is 4 x 2.5km which is one lap. The second race is for those aged 16 and over which is 4 x 5km which is two laps. The entries close for this event on Monday 2nd June at 5pm\, and for those over 16 the cost is $12 and for those under 16 the cost is $7. For those wanting to enter as a Community Runner\, the cost is $12 for U16 and $22 for those aged U18 and over.
URL:https://porthillsathletic.org.nz/event/https-athscanterburynz-wixsite-com-lakesiderelay2025/
LOCATION:Lake Roto Kohatu\, Sawyers Arms Reserve\, Christchurch\, New Zealand
ATTACH;FMTTYPE=image/jpeg:https://porthillsathletic.org.nz/wp-content/uploads/2021/08/Road-Champs-photo.jpg
ORGANIZER;CN="Athletics Canterbury":MAILTO:kevinbknight@icloud.com
END:VEVENT
END:VCALENDAR