BEGIN:VCALENDAR
VERSION:2.0
PRODID:-//Port Hills Athletic Club - ECPv6.15.20//NONSGML v1.0//EN
CALSCALE:GREGORIAN
METHOD:PUBLISH
X-WR-CALNAME:Port Hills Athletic Club
X-ORIGINAL-URL:https://porthillsathletic.org.nz
X-WR-CALDESC:Events for Port Hills Athletic Club
REFRESH-INTERVAL;VALUE=DURATION:PT1H
X-Robots-Tag:noindex
X-PUBLISHED-TTL:PT1H
BEGIN:VTIMEZONE
TZID:Pacific/Auckland
BEGIN:STANDARD
TZOFFSETFROM:+1300
TZOFFSETTO:+1200
TZNAME:NZST
DTSTART:20220402T140000
END:STANDARD
BEGIN:DAYLIGHT
TZOFFSETFROM:+1200
TZOFFSETTO:+1300
TZNAME:NZDT
DTSTART:20220924T140000
END:DAYLIGHT
BEGIN:STANDARD
TZOFFSETFROM:+1300
TZOFFSETTO:+1200
TZNAME:NZST
DTSTART:20230401T140000
END:STANDARD
BEGIN:DAYLIGHT
TZOFFSETFROM:+1200
TZOFFSETTO:+1300
TZNAME:NZDT
DTSTART:20230923T140000
END:DAYLIGHT
BEGIN:STANDARD
TZOFFSETFROM:+1300
TZOFFSETTO:+1200
TZNAME:NZST
DTSTART:20240406T140000
END:STANDARD
BEGIN:DAYLIGHT
TZOFFSETFROM:+1200
TZOFFSETTO:+1300
TZNAME:NZDT
DTSTART:20240928T140000
END:DAYLIGHT
BEGIN:STANDARD
TZOFFSETFROM:+1300
TZOFFSETTO:+1200
TZNAME:NZST
DTSTART:20250405T140000
END:STANDARD
BEGIN:DAYLIGHT
TZOFFSETFROM:+1200
TZOFFSETTO:+1300
TZNAME:NZDT
DTSTART:20250927T140000
END:DAYLIGHT
BEGIN:STANDARD
TZOFFSETFROM:+1300
TZOFFSETTO:+1200
TZNAME:NZST
DTSTART:20260404T140000
END:STANDARD
BEGIN:DAYLIGHT
TZOFFSETFROM:+1200
TZOFFSETTO:+1300
TZNAME:NZDT
DTSTART:20260926T140000
END:DAYLIGHT
END:VTIMEZONE
BEGIN:VEVENT
DTSTART;VALUE=DATE:20250809
DTEND;VALUE=DATE:20250810
DTSTAMP:20260421T120539
CREATED:20200824T084435Z
LAST-MODIFIED:20250806T211354Z
UID:1009-1754697600-1754783999@porthillsathletic.org.nz
SUMMARY:Canterbury U16 Road and U18+ Mile Champs and All-Grade Walking Champs - 2025
DESCRIPTION:Entries close online via Port Hills website on Monday 4th of August 5pm to allow us time to get our entries in. \nAll Junior Athletes in U18 age group and younger who are registered runners the cost will be $7 \nAll U20 and over Athletes for the Adult Walks and 1 Mile Races the cost to enter this event is $12. \nIf you are a non-registered\, club only runner\, you can enter yourself as a community runner on the day \nDetails for this event at: https://athscanterburynz.wixsite.com/acroad25/u16-road-champs-mile
URL:https://porthillsathletic.org.nz/event/canterbury-u16-road-and-u18-mile-champs-and-all-grade-walking-champs-2024/
LOCATION:Landfill Road\, Landfill Road\, Christchurch\, New Zealand
ATTACH;FMTTYPE=image/jpeg:https://porthillsathletic.org.nz/wp-content/uploads/2020/08/brendon-and-Mike.jpg
ORGANIZER;CN="Athletics Canterbury":MAILTO:kevinbknight@icloud.com
END:VEVENT
BEGIN:VEVENT
DTSTART;TZID=Pacific/Auckland:20250726T130000
DTEND;TZID=Pacific/Auckland:20250726T153000
DTSTAMP:20260421T120539
CREATED:20210517T002349Z
LAST-MODIFIED:20250723T024846Z
UID:1241-1753534800-1753543800@porthillsathletic.org.nz
SUMMARY:The Mid-Winter Time Trial
DESCRIPTION:Entries close on Monday 21 July at 5pm at $5 per person.  \nLocation: Hagley Park \nLoops – 1k in length \nU20\, Seniors & Younger (under 50) Masters – 3k \nU18 & Masters 50+ – 2k \nU16 – 1k \n​​ \nOpen to both Athletic Canterbury Runners and PAPO members for a $5.00 fee. Club secretaries see footer. PAPO members entry approach to follow.  \n​ \nRunners will be allocated a time to be in the pre-start area where they will be given their finger timers and instruction on how to use them. \n​ \nAt timed intervals (possibly 30 seconds) runners in different grades will be set off.  Runners will then run their respective laps (1\, 2 or 3) and finish by inserting their finger timer in the finishing box.  \n​ \nLive finishing times will be posted as people download their data – will those who start early hold off the later runners? \n​ \nDue to the nature of the event there will be no \non-the-day entries.  \nFor more details on this event\, see the website: https://athscanterburynz.wixsite.com/crosscountry25/time-trial
URL:https://porthillsathletic.org.nz/event/the-mid-winter-time-trial-2025/
LOCATION:North Hagley Park\, North Hagley Park\, Christchurch\, New Zealand
ATTACH;FMTTYPE=image/jpeg:https://porthillsathletic.org.nz/wp-content/uploads/2021/05/Capture.jpg
ORGANIZER;CN="Athletics Canterbury":MAILTO:kevinbknight@icloud.com
END:VEVENT
BEGIN:VEVENT
DTSTART;VALUE=DATE:20250607
DTEND;VALUE=DATE:20250608
DTSTAMP:20260421T120539
CREATED:20210803T193216Z
LAST-MODIFIED:20250531T214834Z
UID:1490-1749254400-1749340799@porthillsathletic.org.nz
SUMMARY:Lakeside Relay 2025
DESCRIPTION:This event is a relay with two races the first being the U16 race which is 4 x 2.5km which is one lap. The second race is for those aged 16 and over which is 4 x 5km which is two laps. The entries close for this event on Monday 2nd June at 5pm\, and for those over 16 the cost is $12 and for those under 16 the cost is $7. For those wanting to enter as a Community Runner\, the cost is $12 for U16 and $22 for those aged U18 and over.
URL:https://porthillsathletic.org.nz/event/https-athscanterburynz-wixsite-com-lakesiderelay2025/
LOCATION:Lake Roto Kohatu\, Sawyers Arms Reserve\, Christchurch\, New Zealand
ATTACH;FMTTYPE=image/jpeg:https://porthillsathletic.org.nz/wp-content/uploads/2021/08/Road-Champs-photo.jpg
ORGANIZER;CN="Athletics Canterbury":MAILTO:kevinbknight@icloud.com
END:VEVENT
BEGIN:VEVENT
DTSTART;TZID=Pacific/Auckland:20240921T120000
DTEND;TZID=Pacific/Auckland:20240921T160000
DTSTAMP:20260421T120539
CREATED:20201007T043739Z
LAST-MODIFIED:20240913T211135Z
UID:1029-1726920000-1726934400@porthillsathletic.org.nz
SUMMARY:Andrew Reese Relays @ the Willows - 2024
DESCRIPTION:This relay is out at Rangiora down by the Ashley River Bridge and for those U18 it will cost $7 and for those U20 and over it will cost $12. Entries will close on Friday 20 September at 4pm.
URL:https://porthillsathletic.org.nz/event/andrew-reese-relays-the-willows-2024/
LOCATION:Willows Recreation area\, End of Thompson Road\, off Old West Coast Road\, West Melton\, Christchurch\, Canterbury
ATTACH;FMTTYPE=image/jpeg:https://porthillsathletic.org.nz/wp-content/uploads/2020/10/Pete-Watts-Memorial-Relay.jpg
ORGANIZER;CN="Athletics Canterbury":MAILTO:kevinbknight@icloud.com
END:VEVENT
BEGIN:VEVENT
DTSTART;VALUE=DATE:20240414
DTEND;VALUE=DATE:20240415
DTSTAMP:20260421T120539
CREATED:20210530T004349Z
LAST-MODIFIED:20240404T073117Z
UID:1247-1713052800-1713139199@porthillsathletic.org.nz
SUMMARY:Canterbury One Mile and 5K Champs - 2024
DESCRIPTION:The Canterbury One Mile and 5K Champs is a new event which for the One Mile is for all ages those Under 16 will cost $7 and those in grades 18 and over will cost $12. The 5K is only for those ages 14 as at 31/12/2024 and over and will cost $12. Those of you in this category who want to do both the One Mile and the 5K will also only have to pay the one fee of $12 to do both races. Anyone can enter who was a registered athlete last year and/or a registered athlete this season which opens on April 1. Entries for these events will close on Monday 8 April at 0000.
URL:https://porthillsathletic.org.nz/event/canterbury-one-mile-and-5k-champs-2024/
LOCATION:Landfill Road\, Landfill Road\, Christchurch\, New Zealand
ATTACH;FMTTYPE=image/jpeg:https://porthillsathletic.org.nz/wp-content/uploads/2021/05/Screenshot-2021-05-30-121550.jpg
ORGANIZER;CN="Athletics Canterbury":MAILTO:kevinbknight@icloud.com
END:VEVENT
BEGIN:VEVENT
DTSTART;VALUE=DATE:20230401
DTEND;VALUE=DATE:20230402
DTSTAMP:20260421T120539
CREATED:20191005T235653Z
LAST-MODIFIED:20220324T023111Z
UID:821-1680307200-1680393599@porthillsathletic.org.nz
SUMMARY:No New Events - Check Back Soon...
DESCRIPTION:
URL:https://porthillsathletic.org.nz/event/no-new-events-check-back-soon-for-our-next-events/
ATTACH;FMTTYPE=image/jpeg:https://porthillsathletic.org.nz/wp-content/uploads/2019/03/IMG_7217.jpg
END:VEVENT
END:VCALENDAR