BEGIN:VCALENDAR
VERSION:2.0
PRODID:-//Port Hills Athletic Club - ECPv6.15.20//NONSGML v1.0//EN
CALSCALE:GREGORIAN
METHOD:PUBLISH
X-WR-CALNAME:Port Hills Athletic Club
X-ORIGINAL-URL:https://porthillsathletic.org.nz
X-WR-CALDESC:Events for Port Hills Athletic Club
REFRESH-INTERVAL;VALUE=DURATION:PT1H
X-Robots-Tag:noindex
X-PUBLISHED-TTL:PT1H
BEGIN:VTIMEZONE
TZID:Pacific/Auckland
BEGIN:STANDARD
TZOFFSETFROM:+1300
TZOFFSETTO:+1200
TZNAME:NZST
DTSTART:20250405T140000
END:STANDARD
BEGIN:DAYLIGHT
TZOFFSETFROM:+1200
TZOFFSETTO:+1300
TZNAME:NZDT
DTSTART:20250927T140000
END:DAYLIGHT
BEGIN:STANDARD
TZOFFSETFROM:+1300
TZOFFSETTO:+1200
TZNAME:NZST
DTSTART:20260404T140000
END:STANDARD
BEGIN:DAYLIGHT
TZOFFSETFROM:+1200
TZOFFSETTO:+1300
TZNAME:NZDT
DTSTART:20260926T140000
END:DAYLIGHT
BEGIN:STANDARD
TZOFFSETFROM:+1300
TZOFFSETTO:+1200
TZNAME:NZST
DTSTART:20270403T140000
END:STANDARD
BEGIN:DAYLIGHT
TZOFFSETFROM:+1200
TZOFFSETTO:+1300
TZNAME:NZDT
DTSTART:20270925T140000
END:DAYLIGHT
END:VTIMEZONE
BEGIN:VEVENT
DTSTART;TZID=Pacific/Auckland:20260425T130000
DTEND;TZID=Pacific/Auckland:20260425T160000
DTSTAMP:20260421T131815
CREATED:20210330T065257Z
LAST-MODIFIED:20260420T075949Z
UID:1076-1777122000-1777132800@porthillsathletic.org.nz
SUMMARY:Daniel Reese Memorial Relays - 2026
DESCRIPTION:General DetailsThis is the first event on the calendar for this year is very different in which there is an individual event for both the U16 and U18 and over races as well as the relay. You can enter both the individual race and also do the relay for the one price or you could do just the individual race or do just the relay all for just the same price. To enter this event you just needed to be registered last season or registered for this season or if not a member you can still enter through the club but will be listed as a Community Runner and will have to pay an extra $3 to do the races. The fee for registered runners is $7 for those in the U16 races or $12 for those in the U18 and over races. There is also a walking relay for both the U16 and U18 and over grades and this will be in teams of two doing 2km each and the cost is $7 for U16 and $12 for U18 and over. For more details about this event\, start times\, and location\, see the event website. Entries close Monday 20 April at 5pm so that I have time to arrange teams before entering them later on in the day.
URL:https://porthillsathletic.org.nz/event/daniel-reese-memorial-relays-2026/
LOCATION:South Hagley Park\, Christchurch\, Canterbury\, New Zealand
ATTACH;FMTTYPE=image/jpeg:https://porthillsathletic.org.nz/wp-content/uploads/2019/03/Hagley-Relays-2017.jpg
ORGANIZER;CN="Athletics Canterbury":MAILTO:kevinbknight@icloud.com
END:VEVENT
BEGIN:VEVENT
DTSTART;TZID=Pacific/Auckland:20260509T110000
DTEND;TZID=Pacific/Auckland:20260509T160000
DTSTAMP:20260421T131815
CREATED:20200824T083725Z
LAST-MODIFIED:20260420T215129Z
UID:1006-1778324400-1778342400@porthillsathletic.org.nz
SUMMARY:Bottle Lake Hill Assault Saturday May 9th
DESCRIPTION:Bottle Lake Hill Assault is a new event where the Under 16 do only a relay and Under 18 and over can do the 4k individual and the relay or just the relay or just the 4k. The prices are still the same U18 $7 and $12 for the rest. The details are as follows\, \n\n\nAdult 4k race (2 loops of the course)  \n\n\nAdult Relay – 4 loops of the course (between one and four athletes in a team; Athletes can run laps in any order. List running order and lap number on entry sheet) \n\n\nUnder 16 relay – 4 loops of the course (Between two and four athletes in a team. Athletes can run one or two laps (but not consecutively if doing two). List running order on entry sheet). Passport stamps can be collected at Passport Control. \n\nCommunity Runners who enter on the day only do the straight races for $10 for Under 16 or $20 for 16 and over.
URL:https://porthillsathletic.org.nz/event/https-athscanterburynz-wixsite-com-bottje-lake-hill-assault-2026/
LOCATION:Bower Ave\, Christchurch\, Canterbury\, New Zealand
ATTACH;FMTTYPE=image/jpeg:https://porthillsathletic.org.nz/wp-content/uploads/2020/08/DSCN0340.jpg
ORGANIZER;CN="Athletics Canterbury":MAILTO:kevinbknight@icloud.com
END:VEVENT
BEGIN:VEVENT
DTSTART;TZID=Pacific/Auckland:20260522T173000
DTEND;TZID=Pacific/Auckland:20260522T210000
DTSTAMP:20260421T131815
CREATED:20200713T091013Z
LAST-MODIFIED:20260420T220703Z
UID:961-1779471000-1779483600@porthillsathletic.org.nz
SUMMARY:Friday Night Lights - 2026
DESCRIPTION:This is  being held on Friday May 22 with the first race the U16 which will be over 2 x 1.5km which will start at 6pm and to enter this will cost $7 and this event does one lap and the has a 5 minute wait after the first runner ahs finished and then you do your second lap. The second race is those U18 and over and will be over 3 x 1.5km and this race starts at 6.25pm and will cost $12. A Community Runner or Late Entry for the U16 will cost $10 and for the U18 and over will cost $20. \nMen’s / Women’s Eliminator: Caution! This race could get interesting! The eliminator is a ‘last person standing’\, 3 lap affair\, with the field being halved after each lap. Each lap will be followed by a 2 minute break that begins the moment the winner of the lap crosses the finish line. The winner of the 2nd lap is awarded $150 and the winner of the 3rd and final lap is awarded $350. Selection & field size for the eliminator will be announced Thursday 21st of May at 8pm. Those interested in being selected to compete in the eliminator need to express interest and provide a recent 5k time in the entry form. \nExample: \n40 person field\, first 20 through the line go through to the second lap\, first 10 through the line go through to the third and final lap (minimum of 10 people will start the third lap\, regardless of field size). \nThe Women’s Race is at 6.55pm and the Men’s Race is at 7.30pm and will cost $12 to enter. \n\nGiven the limited numbers in the Eliminator event\, clubs must identify those who wish to run in this event and will be advised by Thursday night whether entry has been accepted. All those who do not make the Eliminator event will be entered in the Open event.\n\nEntries close at 5pm on Monday 11 May.
URL:https://porthillsathletic.org.nz/event/friday-night-lights-2026/
LOCATION:Ilam Fields\, University\, Christchurch\, New Zealand
ATTACH;FMTTYPE=image/jpeg:https://porthillsathletic.org.nz/wp-content/uploads/2020/07/DSC_0205-scaled.jpg
ORGANIZER;CN="Athletics Canterbury":MAILTO:kevinbknight@icloud.com
END:VEVENT
BEGIN:VEVENT
DTSTART;TZID=Pacific/Auckland:20260613T123000
DTEND;TZID=Pacific/Auckland:20260613T153000
DTSTAMP:20260421T131815
CREATED:20210424T054623Z
LAST-MODIFIED:20260420T221948Z
UID:1107-1781353800-1781364600@porthillsathletic.org.nz
SUMMARY:Lionel Fox Trail Relay - 2026
DESCRIPTION:This event is being held at Woodend Beach and is a 2km lap. U16 will do 4x2km laps which is one lap for each runner and those U18 and over will do 4x4km which is two laps for each runner. \nFor more details on this event\, see the website \nEntries close online via the Port Hills Website on Monday 8th of June at 5pm to allow us time to enter our entries. \nFor those aged U16 the cost will be $7\, if you are a U16 Community Runner the cost is $10. \nFor those aged U18 and over the cost is $12\, if you are a U18 and over Community Runner\, the cost is $20.
URL:https://porthillsathletic.org.nz/event/lionel-fox-trail-relay-2026/
LOCATION:Woodend Beach Domain\, 14 Woodend Beach Road\, Woodend\, 7691\, New Zealand
ATTACH;FMTTYPE=image/jpeg:https://porthillsathletic.org.nz/wp-content/uploads/2021/04/IMG_20190427_123120-scaled.jpg
ORGANIZER;CN="Athletics Canterbury":MAILTO:kevinbknight@icloud.com
END:VEVENT
BEGIN:VEVENT
DTSTART;VALUE=DATE:20260704
DTEND;VALUE=DATE:20260705
DTSTAMP:20260421T131815
CREATED:20210624T233244Z
LAST-MODIFIED:20260420T223754Z
UID:1350-1783123200-1783209599@porthillsathletic.org.nz
SUMMARY:The Canterbury Cross Country Champs - 2026
DESCRIPTION:This championship race serves to identify the local champions\, as well as acting as the selection race for the National Champs. It is the pinnacle race for the Cross Country season. \nThe race is open to all competitors\, but those wishing to be considered for selection to the Canterbury team to compete at the National Cross Country Championships will need to be an Athletics NZ registered member. \nEntries Close: Monday 29th June  5pm \nFor those aged under 16 as of 31/12/2026 it will cost $7 and for those 16 and over it will cost $12 \nIf you want to run as a Community Runner for those aged U16 as of 31/12/2026 it will cost $10 and for those 16 and over it will cost $20
URL:https://porthillsathletic.org.nz/event/the-canterbury-cross-country-champs-2026/
LOCATION:Ascot QEII Park\, Ascot Avenue\, Christchurch\, New Zealand
ATTACH;FMTTYPE=image/jpeg:https://porthillsathletic.org.nz/wp-content/uploads/2021/06/CCCC.jpg
ORGANIZER;CN="Athletics Canterbury":MAILTO:kevinbknight@icloud.com
END:VEVENT
BEGIN:VEVENT
DTSTART;TZID=Pacific/Auckland:20260718T123000
DTEND;TZID=Pacific/Auckland:20260718T160000
DTSTAMP:20260421T131815
CREATED:20200713T091709Z
LAST-MODIFIED:20260420T224933Z
UID:964-1784377800-1784390400@porthillsathletic.org.nz
SUMMARY:Kennett Cup Steeples 2026
DESCRIPTION:Entries close online via Port Hills on Monday 13th of July at 5pm to allow us time to enter our entries. \nU16 Athletes the cost to enter is $7 \nU18 and over Athletes the cost to enter this race is $12. \nIf you are a non-registered\, club-only runner\, you can enter as a community runner where the cost will be $10 for U18 and $20 for those in the age group U20 and over.
URL:https://porthillsathletic.org.nz/event/kennett-cup-steeples-2026/
LOCATION:Rawhiti Domain\, 376 Keyes Rd\, Christchurch\, New Zealand
ATTACH;FMTTYPE=image/jpeg:https://porthillsathletic.org.nz/wp-content/uploads/2020/07/DSC_0264-scaled.jpg
ORGANIZER;CN="Athletics Canterbury":MAILTO:kevinbknight@icloud.com
END:VEVENT
END:VCALENDAR