BEGIN:VCALENDAR
VERSION:2.0
PRODID:-//Port Hills Athletic Club - ECPv6.15.20//NONSGML v1.0//EN
CALSCALE:GREGORIAN
METHOD:PUBLISH
X-ORIGINAL-URL:https://porthillsathletic.org.nz
X-WR-CALDESC:Events for Port Hills Athletic Club
REFRESH-INTERVAL;VALUE=DURATION:PT1H
X-Robots-Tag:noindex
X-PUBLISHED-TTL:PT1H
BEGIN:VTIMEZONE
TZID:Pacific/Auckland
BEGIN:STANDARD
TZOFFSETFROM:+1300
TZOFFSETTO:+1200
TZNAME:NZST
DTSTART:20250405T140000
END:STANDARD
BEGIN:DAYLIGHT
TZOFFSETFROM:+1200
TZOFFSETTO:+1300
TZNAME:NZDT
DTSTART:20250927T140000
END:DAYLIGHT
BEGIN:STANDARD
TZOFFSETFROM:+1300
TZOFFSETTO:+1200
TZNAME:NZST
DTSTART:20260404T140000
END:STANDARD
BEGIN:DAYLIGHT
TZOFFSETFROM:+1200
TZOFFSETTO:+1300
TZNAME:NZDT
DTSTART:20260926T140000
END:DAYLIGHT
BEGIN:STANDARD
TZOFFSETFROM:+1300
TZOFFSETTO:+1200
TZNAME:NZST
DTSTART:20270403T140000
END:STANDARD
BEGIN:DAYLIGHT
TZOFFSETFROM:+1200
TZOFFSETTO:+1300
TZNAME:NZDT
DTSTART:20270925T140000
END:DAYLIGHT
END:VTIMEZONE
BEGIN:VEVENT
DTSTART;TZID=Pacific/Auckland:20260522T173000
DTEND;TZID=Pacific/Auckland:20260522T210000
DTSTAMP:20260421T103048
CREATED:20200713T091013Z
LAST-MODIFIED:20260420T220703Z
UID:961-1779471000-1779483600@porthillsathletic.org.nz
SUMMARY:Friday Night Lights - 2026
DESCRIPTION:This is  being held on Friday May 22 with the first race the U16 which will be over 2 x 1.5km which will start at 6pm and to enter this will cost $7 and this event does one lap and the has a 5 minute wait after the first runner ahs finished and then you do your second lap. The second race is those U18 and over and will be over 3 x 1.5km and this race starts at 6.25pm and will cost $12. A Community Runner or Late Entry for the U16 will cost $10 and for the U18 and over will cost $20. \nMen’s / Women’s Eliminator: Caution! This race could get interesting! The eliminator is a ‘last person standing’\, 3 lap affair\, with the field being halved after each lap. Each lap will be followed by a 2 minute break that begins the moment the winner of the lap crosses the finish line. The winner of the 2nd lap is awarded $150 and the winner of the 3rd and final lap is awarded $350. Selection & field size for the eliminator will be announced Thursday 21st of May at 8pm. Those interested in being selected to compete in the eliminator need to express interest and provide a recent 5k time in the entry form. \nExample: \n40 person field\, first 20 through the line go through to the second lap\, first 10 through the line go through to the third and final lap (minimum of 10 people will start the third lap\, regardless of field size). \nThe Women’s Race is at 6.55pm and the Men’s Race is at 7.30pm and will cost $12 to enter. \n\nGiven the limited numbers in the Eliminator event\, clubs must identify those who wish to run in this event and will be advised by Thursday night whether entry has been accepted. All those who do not make the Eliminator event will be entered in the Open event.\n\nEntries close at 5pm on Monday 11 May.
URL:https://porthillsathletic.org.nz/event/friday-night-lights-2026/
LOCATION:Ilam Fields\, University\, Christchurch\, New Zealand
ATTACH;FMTTYPE=image/jpeg:https://porthillsathletic.org.nz/wp-content/uploads/2020/07/DSC_0205-scaled.jpg
ORGANIZER;CN="Athletics Canterbury":MAILTO:kevinbknight@icloud.com
END:VEVENT
BEGIN:VEVENT
DTSTART;TZID=Pacific/Auckland:20260613T123000
DTEND;TZID=Pacific/Auckland:20260613T153000
DTSTAMP:20260421T103048
CREATED:20210424T054623Z
LAST-MODIFIED:20260420T221948Z
UID:1107-1781353800-1781364600@porthillsathletic.org.nz
SUMMARY:Lionel Fox Trail Relay - 2026
DESCRIPTION:This event is being held at Woodend Beach and is a 2km lap. U16 will do 4x2km laps which is one lap for each runner and those U18 and over will do 4x4km which is two laps for each runner. \nFor more details on this event\, see the website \nEntries close online via the Port Hills Website on Monday 8th of June at 5pm to allow us time to enter our entries. \nFor those aged U16 the cost will be $7\, if you are a U16 Community Runner the cost is $10. \nFor those aged U18 and over the cost is $12\, if you are a U18 and over Community Runner\, the cost is $20.
URL:https://porthillsathletic.org.nz/event/lionel-fox-trail-relay-2026/
LOCATION:Woodend Beach Domain\, 14 Woodend Beach Road\, Woodend\, 7691\, New Zealand
ATTACH;FMTTYPE=image/jpeg:https://porthillsathletic.org.nz/wp-content/uploads/2021/04/IMG_20190427_123120-scaled.jpg
ORGANIZER;CN="Athletics Canterbury":MAILTO:kevinbknight@icloud.com
END:VEVENT
END:VCALENDAR